Workbook
Name DiscountRate: Dashboard!$C$10
Name rngCOGSpct: Admin!$B$9
Name rngOpExChange: Admin!$B$10
Name rngPriceChange: Admin!$B$8
Name rngVolumeGrowth: Admin!$B$7
Name SelectedScenario: Dashboard!$C$4
Name Slider_COGS: Dashboard!$C$9
Name Slider_Price: Dashboard!$C$8
Name Slider_Volume: Dashboard!$C$7
Name StartMonth: Admin!$B$5

Sheet README
B1: Workbook README & Model Guide
B2: How data, assumptions, scenarios, calculations, controls, and reporting connect.
B4: START HERE
B5: Use Dashboard for decisions and scenario testing. Update source actuals in Historical and scenario rates in Assumptions; Forecast, Variance, Sensitivity, Admin, and Dashboard then recalculate. Admin contains named controls and chart-support formulas and should normally be changed only by the model owner.
B8: WORKBOOK FLOW
B9: Step | C9: Sheet | E9: Role in the model | H9: What to edit
B10: 1 | C10: Historical | E10: Monthly actual revenue, volume, price, COGS and OpEx. Seeds the forecast and backtest. | H10: Append or replace validated actual months.
B11: 2 | C11: Assumptions | E11: Monthly drivers for Base, Optimistic and Stress scenarios. | H11: Edit scenario percentages only.
B12: 3 | C12: Scenarios | E12: Display names and scenario keys used by lookups and the selector. | H12: Change only if keys are updated everywhere.
B13: 4 | C13: Forecast | E13: Live 12-month volume, price, revenue, costs, profit, margin and discounted cash flow. | H13: Normally do not overwrite formulas.
B14: 5 | C14: Variance | E14: One-month-ahead Base backtest with volume, price, COGS and OpEx contributions. | H14: Extend formulas when adding backtest months.
B15: 6 | C15: Sensitivity | E15: Low/high driver shocks and incremental 12-month profit impacts. | H15: Edit Low Shock and High Shock values.
B16: 7 | C16: Admin | E16: Named control values and chart-support ranges used by Dashboard. | H16: Model-owner changes only.
B17: 8 | C17: Dashboard | E17: Scenario selection, sensitivity multipliers, KPIs, narrative and charts. | H17: Select scenario; adjust multipliers and discount rate.
B19: PRIMARY CONTROLS
B20: Control | E20: Location | G20: Effect
B21: Selected scenario | E21: Dashboard!C4 | G21: Chooses Base, Optimistic or Stress for selected-scenario KPIs and charts.
B22: Volume multiplier | E22: Dashboard!C7 | G22: Scales the selected scenario volume-growth assumption in Dashboard calculations.
B23: Price multiplier | E23: Dashboard!C8 | G23: Scales the selected scenario price-change assumption in Dashboard calculations.
B24: COGS multiplier | E24: Dashboard!C9 | G24: Scales the selected scenario COGS percentage in Dashboard calculations.
B25: Discount rate | E25: Dashboard!C10 | G25: Discounts monthly cash flows used by the present-value KPI.
B26: Forecast start | E26: Admin!B5 | G26: Sets the first forecast month and the 12-month reporting horizon.
B28: WHERE TO MODIFY LOGIC
B29: Logic area | D29: Primary location | F29: Modification guidance
B30: Scenario rates | D30: Assumptions!C5:E8 | F30: Change monthly volume growth, price change, COGS percentage and OpEx growth by scenario.
B31: Forecast equations | D31: Forecast!C5:K40 | F31: Edit table formulas only when changing methodology; keep structured references intact.
B32: Backtest methodology | D32: Variance!B5:K11 | F32: Change forecast and contribution formulas here; month labels are linked to Historical.
B33: Sensitivity methodology | D33: Sensitivity!B5:F8 | F33: Change shocks in columns C:D; formulas in E:F calculate incremental profit impact.
B34: Named controls | D34: Admin!A5:B12 | F34: Named ranges connect Dashboard inputs to downstream formulas. Preserve names and target cells.
B35: Chart source ranges | D35: Admin!D4:Y16 | F35: Dashboard charts bind to these helper ranges. Extend sources if the reporting horizon changes.
B37: SIGN & SENSITIVITY CONVENTIONS
B38: 1. Revenue and profit drivers: higher volume or price produces a positive profit impact; lower volume or price produces a negative impact.
B39: 2. Cost drivers: higher COGS or OpEx produces a negative profit impact; lower costs produce a positive impact because costs are subtracted.
B40: 3. “Low” and “High” describe the driver value, not the absolute size of the profit impact. Unequal shock distances can create unequal impact magnitudes.
B41: 4. Variance contributions are favourable when positive and unfavourable when negative; cost formulas reverse the raw cost variance sign.
B43: MODEL MAINTENANCE
B44: 1. Add new actuals to tblActuals in Historical using real Excel dates and consistent currency/number formats.
B45: 2. Review tblAssumptions before each planning cycle; percentages are stored as decimals (for example, 1.5% = 0.015).
B46: 3. When extending a horizon, extend table formulas and Admin chart-support ranges together, then verify Dashboard charts.
B47: 4. Do not paste over Forecast, Variance, Sensitivity, or Admin formulas unless intentionally changing model logic.
...

Sheet Cover
B1: Financial Forecasting & Scenario Model
B2: Rolling 12-month planning model | Base, Optimistic and Stress scenarios | v1.0
B4: CONTENTS
B6: Dashboard | C6: Executive KPIs, scenario selector, forecast trends, scenario comparison, variance and sensitivity.
B7: Historical | C7: Monthly actual revenue, volume, price, COGS and operating expense inputs.
B8: Assumptions | C8: Scenario driver matrix for volume, price, COGS and operating expense.
B9: Scenarios | C9: Scenario labels and keys used by the dashboard selector.
B10: Forecast | C10: Live 12-month calculations for Base, Optimistic and Stress scenarios.
B11: Variance | C11: Seven-month backtest of actual performance versus a Base forecast.
B12: Sensitivity | C12: Low/high driver shocks and their impact on selected-scenario gross profit.
B13: Admin | C13: Model controls, named-range calculations, metadata and chart helper ranges.

Sheet Dashboard
B1: Executive Forecast Dashboard
B2: Change the scenario or sensitivity multipliers; all KPIs, tables and charts recalculate.
B4: Selected Scenario | C4: Base | E4: 12M Revenue | H4: Gross Profit | K4: Gross Margin
E5: =SUM(Admin!O5:O16) -> 2012400.2 | H5: =SUM(Admin!P5:P16) -> 860317.4 | K5: =H5/E5 -> 0.4275081 | M5: {=SUMPRODUCT(Admin!P5:P16/(1+DiscountRate)^(_xlfn.SEQUENCE(12)/12))} -> 815660.82
B6: SENSITIVITY CONTROL | C6: VALUE
B7: Volume growth multiplier | C7: 1
B8: Price change multiplier | C8: 1
B9: COGS multiplier | C9: 1
B10: Discount rate | C10: 0.1
B12: STORY IN BRIEF
B13: ="The "&C4&" scenario produces "&TEXT(E5,"$#,##0")&" of revenue and "&TEXT(H5,"$#,##0")&" of gross profit over 12 months. Gross margin is "&TEXT(K5,"0.0%")&"; sensitivity and backtest charts below show the main planning risks." -> The Base scenario produces $2,012,400 of revenue and $860,317 of gross profit over 12 months. Gross margin is 42.8%; sensitivity and backtest charts below show the main planning risks.

Sheet Historical
A1: Historical Actuals
A2: Monthly source data used to seed the forecast and backtest the model.
A4: Month | B4: Revenue | C4: Volume | D4: Price | E4: COGS | F4: OpEx
A5: 45778 | B5: 120000 | C5: 3000 | D5: 40 | E5: 48000 | F5: 25000
A6: 45809 | B6: 125000 | C6: 3100 | D6: 40.32 | E6: 50000 | F6: 25500
A7: 45839 | B7: 130500 | C7: 3200 | D7: 40.78 | E7: 52000 | F7: 26000
A8: 45870 | B8: 128000 | C8: 3150 | D8: 40.63 | E8: 51000 | F8: 25800
A9: 45901 | B9: 135000 | C9: 3300 | D9: 40.91 | E9: 54000 | F9: 26500
A10: 45931 | B10: 140000 | C10: 3400 | D10: 41.18 | E10: 56000 | F10: 27000
A11: 45962 | B11: 142500 | C11: 3450 | D11: 41.3 | E11: 57000 | F11: 27250
A12: 45992 | B12: 150000 | C12: 3600 | D12: 41.67 | E12: 60000 | F12: 28000

Sheet Assumptions
A1: Scenario Assumptions
A2: Editable monthly drivers; percentage values are stored as true decimals.
A4: Driver | B4: Unit | C4: Base | D4: Optimistic | E4: Stress
A5: Volume growth % (monthly) | B5: % | C5: 0.015 | D5: 0.03 | E5: -0.01
A6: Price change % (monthly) | B6: % | C6: 0.002 | D6: 0.005 | E6: -0.005
A7: COGS % of Revenue | B7: % | C7: 0.4 | D7: 0.38 | E7: 0.45
A8: OpEx monthly change % | B8: % | C8: 0.005 | D8: 0.002 | E8: 0.015

Sheet Scenarios
A1: Scenario Definitions
A2: Keys connect the selector to each assumption column.
A4: ScenarioName | B4: ScenarioKey
A5: Base | B5: Base
A6: Optimistic | B6: Opt
A7: Stress | B7: Stress

Sheet Forecast
A1: Rolling 12-Month Forecast
A2: Live calculations for all three scenarios; Dashboard controls affect selected-scenario sensitivity.
A4: Month | B4: Scenario | C4: Volume | D4: Price | E4: Revenue | F4: COGS | G4: OpEx | H4: Gross Profit | I4: Gross Margin | J4: Net Cash Flow | K4: Discounted CF
A5: 46023 | B5: Base | C5: {=INDEX(tblActuals[Volume],ROWS(tblActuals[Volume]))*(1+INDEX(tblAssumptions[[Base]:[Stress]],MATCH("Volume growth % (monthly)",tblAssumptions[Driver],0),MATCH($B5,{"Base","Opt","Stress"},0)))} -> 3654 | D5: {=INDEX(tblActuals[Price],ROWS(tblActuals[Price]))*(1+INDEX(tblAssumptions[[Base]:[Stress]],MATCH("Price change % (monthly)",tblAssumptions[Driver],0),MATCH($B5,{"Base","Opt","Stress"},0)))} -> 41.75334 | E5: =C5*D5 -> 152566.7 | F5: =E5*INDEX(tblAssumptions[[Base]:[Stress]],MATCH("COGS % of Revenue",tblAssumptions[Driver],0),MATCH($B5,{"Base","Opt","Stress"},0)) -> 61026.682 | G5: {=INDEX(tblActuals[OpEx],ROWS(tblActuals[OpEx]))*(1+INDEX(tblAssumptions[[Base]:[Stress]],MATCH("OpEx monthly change %",tblAssumptions[Driver],0),MATCH($B5,{"Base","Opt","Stress"},0)))} -> 28140 | H5: =E5-F5-G5 -> 63400.023 | I5: =H5/E5 -> 0.41555609 | J5: =H5 -> 63400.023 | K5: =J5/(1+DiscountRate)^(1/12) -> 62898.461
A6: 46054 | B6: Base | C6: =C5*(1+INDEX(tblAssumptions[[Base]:[Stress]],MATCH("Volume growth % (monthly)",tblAssumptions[Driver],0),MATCH($B6,{"Base","Opt","Stress"},0))) -> 3708.81 | D6: =D5*(1+INDEX(tblAssumptions[[Base]:[Stress]],MATCH("Price change % (monthly)",tblAssumptions[Driver],0),MATCH($B6,{"Base","Opt","Stress"},0))) -> 41.836847 | E6: =C6*D6 -> 155164.92 | F6: =E6*INDEX(tblAssumptions[[Base]:[Stress]],MATCH("COGS % of Revenue",tblAssumptions[Driver],0),MATCH($B6,{"Base","Opt","Stress"},0)) -> 62065.966 | G6: =G5*(1+INDEX(tblAssumptions[[Base]:[Stress]],MATCH("OpEx monthly change %",tblAssumptions[Driver],0),MATCH($B6,{"Base","Opt","Stress"},0))) -> 28280.7 | H6: =E6-F6-G6 -> 64818.249 | I6: =H6/E6 -> 0.41773779 | J6: =H6 -> 64818.249 | K6: =J6/(1+DiscountRate)^(2/12) -> 63796.744
A7: 46082 | B7: Base | C7: =C6*(1+INDEX(tblAssumptions[[Base]:[Stress]],MATCH("Volume growth % (monthly)",tblAssumptions[Driver],0),MATCH($B7,{"Base","Opt","Stress"},0))) -> 3764.4421 | D7: =D6*(1+INDEX(tblAssumptions[[Base]:[Stress]],MATCH("Price change % (monthly)",tblAssumptions[Driver],0),MATCH($B7,{"Base","Opt","Stress"},0))) -> 41.92052 | E7: =C7*D7 -> 157807.37 | F7: =E7*INDEX(tblAssumptions[[Base]:[Stress]],MATCH("COGS % of Revenue",tblAssumptions[Driver],0),MATCH($B7,{"Base","Opt","Stress"},0)) -> 63122.95 | G7: =G6*(1+INDEX(tblAssumptions[[Base]:[Stress]],MATCH("OpEx monthly change %",tblAssumptions[Driver],0),MATCH($B7,{"Base","Opt","Stress"},0))) -> 28422.103 | H7: =E7-F7-G7 -> 66262.321 | I7: =H7/E7 -> 0.41989369 | J7: =H7 -> 66262.321 | K7: =J7/(1+DiscountRate)^(3/12) -> 64702.114
A8: 46113 | B8: Base | C8: =C7*(1+INDEX(tblAssumptions[[Base]:[Stress]],MATCH("Volume growth % (monthly)",tblAssumptions[Driver],0),MATCH($B8,{"Base","Opt","Stress"},0))) -> 3820.9088 | D8: =D7*(1+INDEX(tblAssumptions[[Base]:[Stress]],MATCH("Price change % (monthly)",tblAssumptions[Driver],0),MATCH($B8,{"Base","Opt","Stress"},0))) -> 42.004361 | E8: =C8*D8 -> 160494.83 | F8: =E8*INDEX(tblAssumptions[[Base]:[Stress]],MATCH("COGS % of Revenue",tblAssumptions[Driver],0),MATCH($B8,{"Base","Opt","Stress"},0)) -> 64197.933 | G8: =G7*(1+INDEX(tblAssumptions[[Base]:[Stress]],MATCH("OpEx monthly change %",tblAssumptions[Driver],0),MATCH($B8,{"Base","Opt","Stress"},0))) -> 28564.214 | H8: =E8-F8-G8 -> 67732.686 | I8: =H8/E8 -> 0.42202409 | J8: =H8 -> 67732.686 | K8: =J8/(1+DiscountRate)^(4/12) -> 65614.638
A9: 46143 | B9: Base | C9: =C8*(1+INDEX(tblAssumptions[[Base]:[Stress]],MATCH("Volume growth % (monthly)",tblAssumptions[Driver],0),MATCH($B9,{"Base","Opt","Stress"},0))) -> 3878.2224 | D9: =D8*(1+INDEX(tblAssumptions[[Base]:[Stress]],MATCH("Price change % (monthly)",tblAssumptions[Driver],0),MATCH($B9,{"Base","Opt","Stress"},0))) -> 42.08837 | E9: =C9*D9 -> 163228.06 | F9: =E9*INDEX(tblAssumptions[[Base]:[Stress]],MATCH("COGS % of Revenue",tblAssumptions[Driver],0),MATCH($B9,{"Base","Opt","Stress"},0)) -> 65291.224 | G9: =G8*(1+INDEX(tblAssumptions[[Base]:[Stress]],MATCH("OpEx monthly change %",tblAssumptions[Driver],0),MATCH($B9,{"Base","Opt","Stress"},0))) -> 28707.035 | H9: =E9-F9-G9 -> 69229.801 | I9: =H9/E9 -> 0.42412929 | J9: =H9 -> 69229.801 | K9: =J9/(1+DiscountRate)^(5/12) -> 66534.383
A10: 46174 | B10: Base | C10: =C9*(1+INDEX(tblAssumptions[[Base]:[Stress]],MATCH("Volume growth % (monthly)",tblAssumptions[Driver],0),MATCH($B10,{"Base","Opt","Stress"},0))) -> 3936.3958 | D10: =D9*(1+INDEX(tblAssumptions[[Base]:[Stress]],MATCH("Price change % (monthly)",tblAssumptions[Driver],0),MATCH($B10,{"Base","Opt","Stress"},0))) -> 42.172547 | E10: =C10*D10 -> 166007.83 | F10: =E10*INDEX(tblAssumptions[[Base]:[Stress]],MATCH("COGS % of Revenue",tblAssumptions[Driver],0),MATCH($B10,{"Base","Opt","Stress"},0)) -> 66403.134 | G10: =G9*(1+INDEX(tblAssumptions[[Base]:[Stress]],MATCH("OpEx monthly change %",tblAssumptions[Driver],0),MATCH($B10,{"Base","Opt","Stress"},0))) -> 28850.57 | H10: =E10-F10-G10 -> 70754.13 | I10: =H10/E10 -> 0.42620959 | J10: =H10 -> 70754.13 | K10: =J10/(1+DiscountRate)^(6/12) -> 67461.416
A11: 46204 | B11: Base | C11: =C10*(1+INDEX(tblAssumptions[[Base]:[Stress]],MATCH("Volume growth % (monthly)",tblAssumptions[Driver],0),MATCH($B11,{"Base","Opt","Stress"},0))) -> 3995.4417 | D11: =D10*(1+INDEX(tblAssumptions[[Base]:[Stress]],MATCH("Price change % (monthly)",tblAssumptions[Driver],0),MATCH($B11,{"Base","Opt","Stress"},0))) -> 42.256892 | E11: =C11*D11 -> 168834.95 | F11: =E11*INDEX(tblAssumptions[[Base]:[Stress]],MATCH("COGS % of Revenue",tblAssumptions[Driver],0),MATCH($B11,{"Base","Opt","Stress"},0)) -> 67533.979 | G11: =G10*(1+INDEX(tblAssumptions[[Base]:[Stress]],MATCH("OpEx monthly change %",tblAssumptions[Driver],0),MATCH($B11,{"Base","Opt","Stress"},0))) -> 28994.823 | H11: =E11-F11-G11 -> 72306.146 | I11: =H11/E11 -> 0.42826528 | J11: =H11 -> 72306.146 | K11: =J11/(1+DiscountRate)^(7/12) -> 68395.807
A12: 46235 | B12: Base | C12: =C11*(1+INDEX(tblAssumptions[[Base]:[Stress]],MATCH("Volume growth % (monthly)",tblAssumptions[Driver],0),MATCH($B12,{"Base","Opt","Stress"},0))) -> 4055.3733 | D12: =D11*(1+INDEX(tblAssumptions[[Base]:[Stress]],MATCH("Price change % (monthly)",tblAssumptions[Driver],0),MATCH($B12,{"Base","Opt","Stress"},0))) -> 42.341406 | E12: =C12*D12 -> 171710.21 | F12: =E12*INDEX(tblAssumptions[[Base]:[Stress]],MATCH("COGS % of Revenue",tblAssumptions[Driver],0),MATCH($B12,{"Base","Opt","Stress"},0)) -> 68684.083 | G12: =G11*(1+INDEX(tblAssumptions[[Base]:[Stress]],MATCH("OpEx monthly change %",tblAssumptions[Driver],0),MATCH($B12,{"Base","Opt","Stress"},0))) -> 29139.797 | H12: =E12-F12-G12 -> 73886.327 | I12: =H12/E12 -> 0.43029665 | J12: =H12 -> 73886.327 | K12: =J12/(1+DiscountRate)^(8/12) -> 69337.624
A13: 46266 | B13: Base | C13: =C12*(1+INDEX(tblAssumptions[[Base]:[Stress]],MATCH("Volume growth % (monthly)",tblAssumptions[Driver],0),MATCH($B13,{"Base","Opt","Stress"},0))) -> 4116.2039 | D13: =D12*(1+INDEX(tblAssumptions[[Base]:[Stress]],MATCH("Price change % (monthly)",tblAssumptions[Driver],0),MATCH($B13,{"Base","Opt","Stress"},0))) -> 42.426089 | E13: =C13*D13 -> 174634.43 | F13: =E13*INDEX(tblAssumptions[[Base]:[Stress]],MATCH("COGS % of Revenue",tblAssumptions[Driver],0),MATCH($B13,{"Base","Opt","Stress"},0)) -> 69853.773 | G13: =G12*(1+INDEX(tblAssumptions[[Base]:[Stress]],MATCH("OpEx monthly change %",tblAssumptions[Driver],0),MATCH($B13,{"Base","Opt","Stress"},0))) -> 29285.496 | H13: =E13-F13-G13 -> 75495.163 | I13: =H13/E13 -> 0.432304 | J13: =H13 -> 75495.163 | K13: =J13/(1+DiscountRate)^(9/12) -> 70286.936
A14: 46296 | B14: Base | C14: =C13*(1+INDEX(tblAssumptions[[Base]:[Stress]],MATCH("Volume growth % (monthly)",tblAssumptions[Driver],0),MATCH($B14,{"Base","Opt","Stress"},0))) -> 4177.947 | D14: =D13*(1+INDEX(tblAssumptions[[Base]:[Stress]],MATCH("Price change % (monthly)",tblAssumptions[Driver],0),MATCH($B14,{"Base","Opt","Stress"},0))) -> 42.510941 | E14: =C14*D14 -> 177608.46 | F14: =E14*INDEX(tblAssumptions[[Base]:[Stress]],MATCH("COGS % of Revenue",tblAssumptions[Driver],0),MATCH($B14,{"Base","Opt","Stress"},0)) -> 71043.382 | G14: =G13*(1+INDEX(tblAssumptions[[Base]:[Stress]],MATCH("OpEx monthly change %",tblAssumptions[Driver],0),MATCH($B14,{"Base","Opt","Stress"},0))) -> 29431.924 | H14: =E14-F14-G14 -> 77133.15 | I14: =H14/E14 -> 0.4342876 | J14: =H14 -> 77133.15 | K14: =J14/(1+DiscountRate)^(10/12) -> 71243.814
A15: 46327 | B15: Base | C15: =C14*(1+INDEX(tblAssumptions[[Base]:[Stress]],MATCH("Volume growth % (monthly)",tblAssumptions[Driver],0),MATCH($B15,{"Base","Opt","Stress"},0))) -> 4240.6162 | D15: =D14*(1+INDEX(tblAssumptions[[Base]:[Stress]],MATCH("Price change % (monthly)",tblAssumptions[Driver],0),MATCH($B15,{"Base","Opt","Stress"},0))) -> 42.595963 | E15: =C15*D15 -> 180633.13 | F15: =E15*INDEX(tblAssumptions[[Base]:[Stress]],MATCH("COGS % of Revenue",tblAssumptions[Driver],0),MATCH($B15,{"Base","Opt","Stress"},0)) -> 72253.251 | G15: =G14*(1+INDEX(tblAssumptions[[Base]:[Stress]],MATCH("OpEx monthly change %",tblAssumptions[Driver],0),MATCH($B15,{"Base","Opt","Stress"},0))) -> 29579.083 | H15: =E15-F15-G15 -> 78800.794 | I15: =H15/E15 -> 0.43624774 | J15: =H15 -> 78800.794 | K15: =J15/(1+DiscountRate)^(11/12) -> 72208.329
A16: 46357 | B16: Base | C16: =C15*(1+INDEX(tblAssumptions[[Base]:[Stress]],MATCH("Volume growth % (monthly)",tblAssumptions[Driver],0),MATCH($B16,{"Base","Opt","Stress"},0))) -> 4304.2254 | D16: =D15*(1+INDEX(tblAssumptions[[Base]:[Stress]],MATCH("Price change % (monthly)",tblAssumptions[Driver],0),MATCH($B16,{"Base","Opt","Stress"},0))) -> 42.681155 | E16: =C16*D16 -> 183709.31 | F16: =E16*INDEX(tblAssumptions[[Base]:[Stress]],MATCH("COGS % of Revenue",tblAssumptions[Driver],0),MATCH($B16,{"Base","Opt","Stress"},0)) -> 73483.724 | G16: =G15*(1+INDEX(tblAssumptions[[Base]:[Stress]],MATCH("OpEx monthly change %",tblAssumptions[Driver],0),MATCH($B16,{"Base","Opt","Stress"},0))) -> 29726.979 | H16: =E16-F16-G16 -> 80498.607 | I16: =H16/E16 -> 0.43818469 | J16: =H16 -> 80498.607 | K16: =J16/(1+DiscountRate)^(12/12) -> 73180.552
A17: 46023 | B17: Opt | C17: {=INDEX(tblActuals[Volume],ROWS(tblActuals[Volume]))*(1+INDEX(tblAssumptions[[Base]:[Stress]],MATCH("Volume growth % (monthly)",tblAssumptions[Driver],0),MATCH($B17,{"Base","Opt","Stress"},0)))} -> 3708 | D17: {=INDEX(tblActuals[Price],ROWS(tblActuals[Price]))*(1+INDEX(tblAssumptions[[Base]:[Stress]],MATCH("Price change % (monthly)",tblAssumptions[Driver],0),MATCH($B17,{"Base","Opt","Stress"},0)))} -> 41.87835 | E17: =C17*D17 -> 155284.92 | F17: =E17*INDEX(tblAssumptions[[Base]:[Stress]],MATCH("COGS % of Revenue",tblAssumptions[Driver],0),MATCH($B17,{"Base","Opt","Stress"},0)) -> 59008.27 | G17: {=INDEX(tblActuals[OpEx],ROWS(tblActuals[OpEx]))*(1+INDEX(tblAssumptions[[Base]:[Stress]],MATCH("OpEx monthly change %",tblAssumptions[Driver],0),MATCH($B17,{"Base","Opt","Stress"},0)))} -> 28056 | H17: =E17-F17-G17 -> 68220.652 | I17: =H17/E17 -> 0.43932566 | J17: =H17 -> 68220.652 | K17: =J17/(1+DiscountRate)^(1/12) -> 67680.954
A18: 46054 | B18: Opt | C18: =C17*(1+INDEX(tblAssumptions[[Base]:[Stress]],MATCH("Volume growth % (monthly)",tblAssumptions[Driver],0),MATCH($B18,{"Base","Opt","Stress"},0))) -> 3819.24 | D18: =D17*(1+INDEX(tblAssumptions[[Base]:[Stress]],MATCH("Price change % (monthly)",tblAssumptions[Driver],0),MATCH($B18,{"Base","Opt","Stress"},0))) -> 42.087742 | E18: =C18*D18 -> 160743.19 | F18: =E18*INDEX(tblAssumptions[[Base]:[Stress]],MATCH("COGS % of Revenue",tblAssumptions[Driver],0),MATCH($B18,{"Base","Opt","Stress"},0)) -> 61082.411 | G18: =G17*(1+INDEX(tblAssumptions[[Base]:[Stress]],MATCH("OpEx monthly change %",tblAssumptions[Driver],0),MATCH($B18,{"Base","Opt","Stress"},0))) -> 28112.112 | H18: =E18-F18-G18 -> 71548.664 | I18: =H18/E18 -> 0.44511164 | J18: =H18 -> 71548.664 | K18: =J18/(1+DiscountRate)^(2/12) -> 70421.091
A19: 46082 | B19: Opt | C19: =C18*(1+INDEX(tblAssumptions[[Base]:[Stress]],MATCH("Volume growth % (monthly)",tblAssumptions[Driver],0),MATCH($B19,{"Base","Opt","Stress"},0))) -> 3933.8172 | D19: =D18*(1+INDEX(tblAssumptions[[Base]:[Stress]],MATCH("Price change % (monthly)",tblAssumptions[Driver],0),MATCH($B19,{"Base","Opt","Stress"},0))) -> 42.29818 | E19: =C19*D19 -> 166393.31 | F19: =E19*INDEX(tblAssumptions[[Base]:[Stress]],MATCH("COGS % of Revenue",tblAssumptions[Driver],0),MATCH($B19,{"Base","Opt","Stress"},0)) -> 63229.458 | G19: =G18*(1+INDEX(tblAssumptions[[Base]:[Stress]],MATCH("OpEx monthly change %",tblAssumptions[Driver],0),MATCH($B19,{"Base","Opt","Stress"},0))) -> 28168.336 | H19: =E19-F19-G19 -> 74995.516 | I19: =H19/E19 -> 0.45071233 | J19: =H19 -> 74995.516 | K19: =J19/(1+DiscountRate)^(3/12) -> 73229.678
A20: 46113 | B20: Opt | C20: =C19*(1+INDEX(tblAssumptions[[Base]:[Stress]],MATCH("Volume growth % (monthly)",tblAssumptions[Driver],0),MATCH($B20,{"Base","Opt","Stress"},0))) -> 4051.8317 | D20: =D19*(1+INDEX(tblAssumptions[[Base]:[Stress]],MATCH("Price change % (monthly)",tblAssumptions[Driver],0),MATCH($B20,{"Base","Opt","Stress"},0))) -> 42.509671 | E20: =C20*D20 -> 172242.03 | F20: =E20*INDEX(tblAssumptions[[Base]:[Stress]],MATCH("COGS % of Revenue",tblAssumptions[Driver],0),MATCH($B20,{"Base","Opt","Stress"},0)) -> 65451.973 | G20: =G19*(1+INDEX(tblAssumptions[[Base]:[Stress]],MATCH("OpEx monthly change %",tblAssumptions[Driver],0),MATCH($B20,{"Base","Opt","Stress"},0))) -> 28224.673 | H20: =E20-F20-G20 -> 78565.389 | I20: =H20/E20 -> 0.45613365 | J20: =H20 -> 78565.389 | K20: =J20/(1+DiscountRate)^(4/12) -> 76108.594
A21: 46143 | B21: Opt | C21: =C20*(1+INDEX(tblAssumptions[[Base]:[Stress]],MATCH("Volume growth % (monthly)",tblAssumptions[Driver],0),MATCH($B21,{"Base","Opt","Stress"},0))) -> 4173.3867 | D21: =D20*(1+INDEX(tblAssumptions[[Base]:[Stress]],MATCH("Price change % (monthly)",tblAssumptions[Driver],0),MATCH($B21,{"Base","Opt","Stress"},0))) -> 42.72222 | E21: =C21*D21 -> 178296.34 | F21: =E21*INDEX(tblAssumptions[[Base]:[Stress]],MATCH("COGS % of Revenue",tblAssumptions[Driver],0),MATCH($B21,{"Base","Opt","Stress"},0)) -> 67752.61 | G21: =G20*(1+INDEX(tblAssumptions[[Base]:[Stress]],MATCH("OpEx monthly change %",tblAssumptions[Driver],0),MATCH($B21,{"Base","Opt","Stress"},0))) -> 28281.122 | H21: =E21-F21-G21 -> 82262.61 | I21: =H21/E21 -> 0.46138137 | J21: =H21 -> 82262.61 | K21: =J21/(1+DiscountRate)^(5/12) -> 79059.767
A22: 46174 | B22: Opt | C22: =C21*(1+INDEX(tblAssumptions[[Base]:[Stress]],MATCH("Volume growth % (monthly)",tblAssumptions[Driver],0),MATCH($B22,{"Base","Opt","Stress"},0))) -> 4298.5883 | D22: =D21*(1+INDEX(tblAssumptions[[Base]:[Stress]],MATCH("Price change % (monthly)",tblAssumptions[Driver],0),MATCH($B22,{"Base","Opt","Stress"},0))) -> 42.935831 | E22: =C22*D22 -> 184563.46 | F22: =E22*INDEX(tblAssumptions[[Base]:[Stress]],MATCH("COGS % of Revenue",tblAssumptions[Driver],0),MATCH($B22,{"Base","Opt","Stress"},0)) -> 70134.114 | G22: =G21*(1+INDEX(tblAssumptions[[Base]:[Stress]],MATCH("OpEx monthly change %",tblAssumptions[Driver],0),MATCH($B22,{"Base","Opt","Stress"},0))) -> 28337.684 | H22: =E22-F22-G22 -> 86091.66 | I22: =H22/E22 -> 0.46646102 | J22: =H22 -> 86091.66 | K22: =J22/(1+DiscountRate)^(6/12) -> 82085.177
A23: 46204 | B23: Opt | C23: =C22*(1+INDEX(tblAssumptions[[Base]:[Stress]],MATCH("Volume growth % (monthly)",tblAssumptions[Driver],0),MATCH($B23,{"Base","Opt","Stress"},0))) -> 4427.5459 | D23: =D22*(1+INDEX(tblAssumptions[[Base]:[Stress]],MATCH("Price change % (monthly)",tblAssumptions[Driver],0),MATCH($B23,{"Base","Opt","Stress"},0))) -> 43.15051 | E23: =C23*D23 -> 191050.86 | F23: =E23*INDEX(tblAssumptions[[Base]:[Stress]],MATCH("COGS % of Revenue",tblAssumptions[Driver],0),MATCH($B23,{"Base","Opt","Stress"},0)) -> 72599.328 | G23: =G22*(1+INDEX(tblAssumptions[[Base]:[Stress]],MATCH("OpEx monthly change %",tblAssumptions[Driver],0),MATCH($B23,{"Base","Opt","Stress"},0))) -> 28394.36 | H23: =E23-F23-G23 -> 90057.176 | I23: =H23/E23 -> 0.47137801 | J23: =H23 -> 90057.176 | K23: =J23/(1+DiscountRate)^(7/12) -> 85186.856
A24: 46235 | B24: Opt | C24: =C23*(1+INDEX(tblAssumptions[[Base]:[Stress]],MATCH("Volume growth % (monthly)",tblAssumptions[Driver],0),MATCH($B24,{"Base","Opt","Stress"},0))) -> 4560.3723 | D24: =D23*(1+INDEX(tblAssumptions[[Base]:[Stress]],MATCH("Price change % (monthly)",tblAssumptions[Driver],0),MATCH($B24,{"Base","Opt","Stress"},0))) -> 43.366263 | E24: =C24*D24 -> 197766.3 | F24: =E24*INDEX(tblAssumptions[[Base]:[Stress]],MATCH("COGS % of Revenue",tblAssumptions[Driver],0),MATCH($B24,{"Base","Opt","Stress"},0)) -> 75151.195 | G24: =G23*(1+INDEX(tblAssumptions[[Base]:[Stress]],MATCH("OpEx monthly change %",tblAssumptions[Driver],0),MATCH($B24,{"Base","Opt","Stress"},0))) -> 28451.149 | H24: =E24-F24-G24 -> 94163.959 | I24: =H24/E24 -> 0.47613753 | J24: =H24 -> 94163.959 | K24: =J24/(1+DiscountRate)^(8/12) -> 88366.893
A25: 46266 | B25: Opt | C25: =C24*(1+INDEX(tblAssumptions[[Base]:[Stress]],MATCH("Volume growth % (monthly)",tblAssumptions[Driver],0),MATCH($B25,{"Base","Opt","Stress"},0))) -> 4697.1835 | D25: =D24*(1+INDEX(tblAssumptions[[Base]:[Stress]],MATCH("Price change % (monthly)",tblAssumptions[Driver],0),MATCH($B25,{"Base","Opt","Stress"},0))) -> 43.583094 | E25: =C25*D25 -> 204717.79 | F25: =E25*INDEX(tblAssumptions[[Base]:[Stress]],MATCH("COGS % of Revenue",tblAssumptions[Driver],0),MATCH($B25,{"Base","Opt","Stress"},0)) -> 77792.759 | G25: =G24*(1+INDEX(tblAssumptions[[Base]:[Stress]],MATCH("OpEx monthly change %",tblAssumptions[Driver],0),MATCH($B25,{"Base","Opt","Stress"},0))) -> 28508.051 | H25: =E25-F25-G25 -> 98416.977 | I25: =H25/E25 -> 0.48074463 | J25: =H25 -> 98416.977 | K25: =J25/(1+DiscountRate)^(9/12) -> 91627.431
A26: 46296 | B26: Opt | C26: =C25*(1+INDEX(tblAssumptions[[Base]:[Stress]],MATCH("Volume growth % (monthly)",tblAssumptions[Driver],0),MATCH($B26,{"Base","Opt","Stress"},0))) -> 4838.099 | D26: =D25*(1+INDEX(tblAssumptions[[Base]:[Stress]],MATCH("Price change % (monthly)",tblAssumptions[Driver],0),MATCH($B26,{"Base","Opt","Stress"},0))) -> 43.801009 | E26: =C26*D26 -> 211913.62 | F26: =E26*INDEX(tblAssumptions[[Base]:[Stress]],MATCH("COGS % of Revenue",tblAssumptions[Driver],0),MATCH($B26,{"Base","Opt","Stress"},0)) -> 80527.175 | G26: =G25*(1+INDEX(tblAssumptions[[Base]:[Stress]],MATCH("OpEx monthly change %",tblAssumptions[Driver],0),MATCH($B26,{"Base","Opt","Stress"},0))) -> 28565.067 | H26: =E26-F26-G26 -> 102821.38 | I26: =H26/E26 -> 0.48520419 | J26: =H26 -> 102821.38 | K26: =J26/(1+DiscountRate)^(10/12) -> 94970.671
A27: 46327 | B27: Opt | C27: =C26*(1+INDEX(tblAssumptions[[Base]:[Stress]],MATCH("Volume growth % (monthly)",tblAssumptions[Driver],0),MATCH($B27,{"Base","Opt","Stress"},0))) -> 4983.2419 | D27: =D26*(1+INDEX(tblAssumptions[[Base]:[Stress]],MATCH("Price change % (monthly)",tblAssumptions[Driver],0),MATCH($B27,{"Base","Opt","Stress"},0))) -> 44.020014 | E27: =C27*D27 -> 219362.38 | F27: =E27*INDEX(tblAssumptions[[Base]:[Stress]],MATCH("COGS % of Revenue",tblAssumptions[Driver],0),MATCH($B27,{"Base","Opt","Stress"},0)) -> 83357.705 | G27: =G26*(1+INDEX(tblAssumptions[[Base]:[Stress]],MATCH("OpEx monthly change %",tblAssumptions[Driver],0),MATCH($B27,{"Base","Opt","Stress"},0))) -> 28622.197 | H27: =E27-F27-G27 -> 107382.48 | I27: =H27/E27 -> 0.48952094 | J27: =H27 -> 107382.48 | K27: =J27/(1+DiscountRate)^(11/12) -> 98398.875
A28: 46357 | B28: Opt | C28: =C27*(1+INDEX(tblAssumptions[[Base]:[Stress]],MATCH("Volume growth % (monthly)",tblAssumptions[Driver],0),MATCH($B28,{"Base","Opt","Stress"},0))) -> 5132.7392 | D28: =D27*(1+INDEX(tblAssumptions[[Base]:[Stress]],MATCH("Price change % (monthly)",tblAssumptions[Driver],0),MATCH($B28,{"Base","Opt","Stress"},0))) -> 44.240114 | E28: =C28*D28 -> 227072.97 | F28: =E28*INDEX(tblAssumptions[[Base]:[Stress]],MATCH("COGS % of Revenue",tblAssumptions[Driver],0),MATCH($B28,{"Base","Opt","Stress"},0)) -> 86287.728 | G28: =G27*(1+INDEX(tblAssumptions[[Base]:[Stress]],MATCH("OpEx monthly change %",tblAssumptions[Driver],0),MATCH($B28,{"Base","Opt","Stress"},0))) -> 28679.442 | H28: =E28-F28-G28 -> 112105.8 | I28: =H28/E28 -> 0.49369945 | J28: =H28 -> 112105.8 | K28: =J28/(1+DiscountRate)^(12/12) -> 101914.36
A29: 46023 | B29: Stress | C29: {=INDEX(tblActuals[Volume],ROWS(tblActuals[Volume]))*(1+INDEX(tblAssumptions[[Base]:[Stress]],MATCH("Volume growth % (monthly)",tblAssumptions[Driver],0),MATCH($B29,{"Base","Opt","Stress"},0)))} -> 3564 | D29: {=INDEX(tblActuals[Price],ROWS(tblActuals[Price]))*(1+INDEX(tblAssumptions[[Base]:[Stress]],MATCH("Price change % (monthly)",tblAssumptions[Driver],0),MATCH($B29,{"Base","Opt","Stress"},0)))} -> 41.46165 | E29: =C29*D29 -> 147769.32 | F29: =E29*INDEX(tblAssumptions[[Base]:[Stress]],MATCH("COGS % of Revenue",tblAssumptions[Driver],0),MATCH($B29,{"Base","Opt","Stress"},0)) -> 66496.194 | G29: {=INDEX(tblActuals[OpEx],ROWS(tblActuals[OpEx]))*(1+INDEX(tblAssumptions[[Base]:[Stress]],MATCH("OpEx monthly change %",tblAssumptions[Driver],0),MATCH($B29,{"Base","Opt","Stress"},0)))} -> 28420 | H29: =E29-F29-G29 -> 52853.126 | I29: =H29/E29 -> 0.3576732 | J29: =H29 -> 52853.126 | K29: =J29/(1+DiscountRate)^(1/12) -> 52435.002
A30: 46054 | B30: Stress | C30: =C29*(1+INDEX(tblAssumptions[[Base]:[Stress]],MATCH("Volume growth % (monthly)",tblAssumptions[Driver],0),MATCH($B30,{"Base","Opt","Stress"},0))) -> 3528.36 | D30: =D29*(1+INDEX(tblAssumptions[[Base]:[Stress]],MATCH("Price change % (monthly)",tblAssumptions[Driver],0),MATCH($B30,{"Base","Opt","Stress"},0))) -> 41.254342 | E30: =C30*D30 -> 145560.17 | F30: =E30*INDEX(tblAssumptions[[Base]:[Stress]],MATCH("COGS % of Revenue",tblAssumptions[Driver],0),MATCH($B30,{"Base","Opt","Stress"},0)) -> 65502.076 | G30: =G29*(1+INDEX(tblAssumptions[[Base]:[Stress]],MATCH("OpEx monthly change %",tblAssumptions[Driver],0),MATCH($B30,{"Base","Opt","Stress"},0))) -> 28846.3 | H30: =E30-F30-G30 -> 51211.793 | I30: =H30/E30 -> 0.35182559 | J30: =H30 -> 51211.793 | K30: =J30/(1+DiscountRate)^(2/12) -> 50404.719
A31: 46082 | B31: Stress | C31: =C30*(1+INDEX(tblAssumptions[[Base]:[Stress]],MATCH("Volume growth % (monthly)",tblAssumptions[Driver],0),MATCH($B31,{"Base","Opt","Stress"},0))) -> 3493.0764 | D31: =D30*(1+INDEX(tblAssumptions[[Base]:[Stress]],MATCH("Price change % (monthly)",tblAssumptions[Driver],0),MATCH($B31,{"Base","Opt","Stress"},0))) -> 41.04807 | E31: =C31*D31 -> 143384.04 | F31: =E31*INDEX(tblAssumptions[[Base]:[Stress]],MATCH("COGS % of Revenue",tblAssumptions[Driver],0),MATCH($B31,{"Base","Opt","Stress"},0)) -> 64522.82 | G31: =G30*(1+INDEX(tblAssumptions[[Base]:[Stress]],MATCH("OpEx monthly change %",tblAssumptions[Driver],0),MATCH($B31,{"Base","Opt","Stress"},0))) -> 29278.994 | H31: =E31-F31-G31 -> 49582.23 | I31: =H31/E31 -> 0.34580019 | J31: =H31 -> 49582.23 | K31: =J31/(1+DiscountRate)^(3/12) -> 48414.771
A32: 46113 | B32: Stress | C32: =C31*(1+INDEX(tblAssumptions[[Base]:[Stress]],MATCH("Volume growth % (monthly)",tblAssumptions[Driver],0),MATCH($B32,{"Base","Opt","Stress"},0))) -> 3458.1456 | D32: =D31*(1+INDEX(tblAssumptions[[Base]:[Stress]],MATCH("Price change % (monthly)",tblAssumptions[Driver],0),MATCH($B32,{"Base","Opt","Stress"},0))) -> 40.84283 | E32: =C32*D32 -> 141240.45 | F32: =E32*INDEX(tblAssumptions[[Base]:[Stress]],MATCH("COGS % of Revenue",tblAssumptions[Driver],0),MATCH($B32,{"Base","Opt","Stress"},0)) -> 63558.204 | G32: =G31*(1+INDEX(tblAssumptions[[Base]:[Stress]],MATCH("OpEx monthly change %",tblAssumptions[Driver],0),MATCH($B32,{"Base","Opt","Stress"},0))) -> 29718.179 | H32: =E32-F32-G32 -> 47964.07 | I32: =H32/E32 -> 0.33959159 | J32: =H32 -> 47964.07 | K32: =J32/(1+DiscountRate)^(4/12) -> 46464.2
A33: 46143 | B33: Stress | C33: =C32*(1+INDEX(tblAssumptions[[Base]:[Stress]],MATCH("Volume growth % (monthly)",tblAssumptions[Driver],0),MATCH($B33,{"Base","Opt","Stress"},0))) -> 3423.5642 | D33: =D32*(1+INDEX(tblAssumptions[[Base]:[Stress]],MATCH("Price change % (monthly)",tblAssumptions[Driver],0),MATCH($B33,{"Base","Opt","Stress"},0))) -> 40.638616 | E33: =C33*D33 -> 139128.91 | F33: =E33*INDEX(tblAssumptions[[Base]:[Stress]],MATCH("COGS % of Revenue",tblAssumptions[Driver],0),MATCH($B33,{"Base","Opt","Stress"},0)) -> 62608.009 | G33: =G32*(1+INDEX(tblAssumptions[[Base]:[Stress]],MATCH("OpEx monthly change %",tblAssumptions[Driver],0),MATCH($B33,{"Base","Opt","Stress"},0))) -> 30163.952 | H33: =E33-F33-G33 -> 46356.948 | I33: =H33/E33 -> 0.33319422 | J33: =H33 -> 46356.948 | K33: =J33/(1+DiscountRate)^(5/12) -> 44552.069
A34: 46174 | B34: Stress | C34: =C33*(1+INDEX(tblAssumptions[[Base]:[Stress]],MATCH("Volume growth % (monthly)",tblAssumptions[Driver],0),MATCH($B34,{"Base","Opt","Stress"},0))) -> 3389.3285 | D34: =D33*(1+INDEX(tblAssumptions[[Base]:[Stress]],MATCH("Price change % (monthly)",tblAssumptions[Driver],0),MATCH($B34,{"Base","Opt","Stress"},0))) -> 40.435422 | E34: =C34*D34 -> 137048.93 | F34: =E34*INDEX(tblAssumptions[[Base]:[Stress]],MATCH("COGS % of Revenue",tblAssumptions[Driver],0),MATCH($B34,{"Base","Opt","Stress"},0)) -> 61672.019 | G34: =G33*(1+INDEX(tblAssumptions[[Base]:[Stress]],MATCH("OpEx monthly change %",tblAssumptions[Driver],0),MATCH($B34,{"Base","Opt","Stress"},0))) -> 30616.411 | H34: =E34-F34-G34 -> 44760.501 | I34: =H34/E34 -> 0.32660233 | J34: =H34 -> 44760.501 | K34: =J34/(1+DiscountRate)^(6/12) -> 42677.463
A35: 46204 | B35: Stress | C35: =C34*(1+INDEX(tblAssumptions[[Base]:[Stress]],MATCH("Volume growth % (monthly)",tblAssumptions[Driver],0),MATCH($B35,{"Base","Opt","Stress"},0))) -> 3355.4353 | D35: =D34*(1+INDEX(tblAssumptions[[Base]:[Stress]],MATCH("Price change % (monthly)",tblAssumptions[Driver],0),MATCH($B35,{"Base","Opt","Stress"},0))) -> 40.233245 | E35: =C35*D35 -> 135000.05 | F35: =E35*INDEX(tblAssumptions[[Base]:[Stress]],MATCH("COGS % of Revenue",tblAssumptions[Driver],0),MATCH($B35,{"Base","Opt","Stress"},0)) -> 60750.022 | G35: =G34*(1+INDEX(tblAssumptions[[Base]:[Stress]],MATCH("OpEx monthly change %",tblAssumptions[Driver],0),MATCH($B35,{"Base","Opt","Stress"},0))) -> 31075.658 | H35: =E35-F35-G35 -> 43174.37 | I35: =H35/E35 -> 0.31981003 | J35: =H35 -> 43174.37 | K35: =J35/(1+DiscountRate)^(7/12) -> 40839.487
A36: 46235 | B36: Stress | C36: =C35*(1+INDEX(tblAssumptions[[Base]:[Stress]],MATCH("Volume growth % (monthly)",tblAssumptions[Driver],0),MATCH($B36,{"Base","Opt","Stress"},0))) -> 3321.8809 | D36: =D35*(1+INDEX(tblAssumptions[[Base]:[Stress]],MATCH("Price change % (monthly)",tblAssumptions[Driver],0),MATCH($B36,{"Base","Opt","Stress"},0))) -> 40.032079 | E36: =C36*D36 -> 132981.8 | F36: =E36*INDEX(tblAssumptions[[Base]:[Stress]],MATCH("COGS % of Revenue",tblAssumptions[Driver],0),MATCH($B36,{"Base","Opt","Stress"},0)) -> 59841.81 | G36: =G35*(1+INDEX(tblAssumptions[[Base]:[Stress]],MATCH("OpEx monthly change %",tblAssumptions[Driver],0),MATCH($B36,{"Base","Opt","Stress"},0))) -> 31541.792 | H36: =E36-F36-G36 -> 41598.197 | I36: =H36/E36 -> 0.31281121 | J36: =H36 -> 41598.197 | K36: =J36/(1+DiscountRate)^(8/12) -> 39037.265
A37: 46266 | B37: Stress | C37: =C36*(1+INDEX(tblAssumptions[[Base]:[Stress]],MATCH("Volume growth % (monthly)",tblAssumptions[Driver],0),MATCH($B37,{"Base","Opt","Stress"},0))) -> 3288.6621 | D37: =D36*(1+INDEX(tblAssumptions[[Base]:[Stress]],MATCH("Price change % (monthly)",tblAssumptions[Driver],0),MATCH($B37,{"Base","Opt","Stress"},0))) -> 39.831919 | E37: =C37*D37 -> 130993.72 | F37: =E37*INDEX(tblAssumptions[[Base]:[Stress]],MATCH("COGS % of Revenue",tblAssumptions[Driver],0),MATCH($B37,{"Base","Opt","Stress"},0)) -> 58947.175 | G37: =G36*(1+INDEX(tblAssumptions[[Base]:[Stress]],MATCH("OpEx monthly change %",tblAssumptions[Driver],0),MATCH($B37,{"Base","Opt","Stress"},0))) -> 32014.919 | H37: =E37-F37-G37 -> 40031.627 | I37: =H37/E37 -> 0.30559959 | J37: =H37 -> 40031.627 | K37: =J37/(1+DiscountRate)^(9/12) -> 37269.943
A38: 46296 | B38: Stress | C38: =C37*(1+INDEX(tblAssumptions[[Base]:[Stress]],MATCH("Volume growth % (monthly)",tblAssumptions[Driver],0),MATCH($B38,{"Base","Opt","Stress"},0))) -> 3255.7755 | D38: =D37*(1+INDEX(tblAssumptions[[Base]:[Stress]],MATCH("Price change % (monthly)",tblAssumptions[Driver],0),MATCH($B38,{"Base","Opt","Stress"},0))) -> 39.632759 | E38: =C38*D38 -> 129035.37 | F38: =E38*INDEX(tblAssumptions[[Base]:[Stress]],MATCH("COGS % of Revenue",tblAssumptions[Driver],0),MATCH($B38,{"Base","Opt","Stress"},0)) -> 58065.914 | G38: =G37*(1+INDEX(tblAssumptions[[Base]:[Stress]],MATCH("OpEx monthly change %",tblAssumptions[Driver],0),MATCH($B38,{"Base","Opt","Stress"},0))) -> 32495.143 | H38: =E38-F38-G38 -> 38474.308 | I38: =H38/E38 -> 0.2981687 | J38: =H38 -> 38474.308 | K38: =J38/(1+DiscountRate)^(10/12) -> 35536.685
A39: 46327 | B39: Stress | C39: =C38*(1+INDEX(tblAssumptions[[Base]:[Stress]],MATCH("Volume growth % (monthly)",tblAssumptions[Driver],0),MATCH($B39,{"Base","Opt","Stress"},0))) -> 3223.2177 | D39: =D38*(1+INDEX(tblAssumptions[[Base]:[Stress]],MATCH("Price change % (monthly)",tblAssumptions[Driver],0),MATCH($B39,{"Base","Opt","Stress"},0))) -> 39.434595 | E39: =C39*D39 -> 127106.29 | F39: =E39*INDEX(tblAssumptions[[Base]:[Stress]],MATCH("COGS % of Revenue",tblAssumptions[Driver],0),MATCH($B39,{"Base","Opt","Stress"},0)) -> 57197.829 | G39: =G38*(1+INDEX(tblAssumptions[[Base]:[Stress]],MATCH("OpEx monthly change %",tblAssumptions[Driver],0),MATCH($B39,{"Base","Opt","Stress"},0))) -> 32982.57 | H39: =E39-F39-G39 -> 36925.887 | I39: =H39/E39 -> 0.29051189 | J39: =H39 -> 36925.887 | K39: =J39/(1+DiscountRate)^(11/12) -> 33836.672
A40: 46357 | B40: Stress | C40: =C39*(1+INDEX(tblAssumptions[[Base]:[Stress]],MATCH("Volume growth % (monthly)",tblAssumptions[Driver],0),MATCH($B40,{"Base","Opt","Stress"},0))) -> 3190.9855 | D40: =D39*(1+INDEX(tblAssumptions[[Base]:[Stress]],MATCH("Price change % (monthly)",tblAssumptions[Driver],0),MATCH($B40,{"Base","Opt","Stress"},0))) -> 39.237422 | E40: =C40*D40 -> 125206.05 | F40: =E40*INDEX(tblAssumptions[[Base]:[Stress]],MATCH("COGS % of Revenue",tblAssumptions[Driver],0),MATCH($B40,{"Base","Opt","Stress"},0)) -> 56342.721 | G40: =G39*(1+INDEX(tblAssumptions[[Base]:[Stress]],MATCH("OpEx monthly change %",tblAssumptions[Driver],0),MATCH($B40,{"Base","Opt","Stress"},0))) -> 33477.309 | H40: =E40-F40-G40 -> 35386.017 | I40: =H40/E40 -> 0.28262227 | J40: =H40 -> 35386.017 | K40: =J40/(1+DiscountRate)^(12/12) -> 32169.107

Sheet Variance
A1: Automated Variance Analysis
A2: Base-scenario one-month-ahead backtest for June–December 2025 with driver contributions.
A4: Month | B4: Actual Revenue | C4: Forecast Revenue | D4: Variance | E4: Variance % | F4: Actual GP | G4: Forecast GP | H4: Volume Contribution | I4: Price Contribution | J4: COGS Contribution | K4: OpEx Contribution
A5: {=INDEX(tblActuals[Month],ROW()-3)} -> 45809 | B5: =INDEX(tblActuals[Revenue],2) -> 125000 | C5: =INDEX(tblActuals[Volume],1)*(1+INDEX(tblAssumptions[Base],MATCH("Volume growth % (monthly)",tblAssumptions[Driver],0)))*INDEX(tblActuals[Price],1)*(1+INDEX(tblAssumptions[Base],MATCH("Price change % (monthly)",tblAssumptions[Driver],0))) -> 122043.6 | D5: =B5-C5 -> 2956.4 | E5: =D5/C5 -> 0.02422413 | F5: =INDEX(tblActuals[Revenue],2)-INDEX(tblActuals[COGS],2)-INDEX(tblActuals[OpEx],2) -> 49500 | G5: =C5*(1-INDEX(tblAssumptions[Base],MATCH("COGS % of Revenue",tblAssumptions[Driver],0)))-INDEX(tblActuals[OpEx],1)*(1+INDEX(tblAssumptions[Base],MATCH("OpEx monthly change %",tblAssumptions[Driver],0))) -> 48101.16 | H5: =(INDEX(tblActuals[Volume],2)-INDEX(tblActuals[Volume],1)*(1+INDEX(tblAssumptions[Base],MATCH("Volume growth % (monthly)",tblAssumptions[Driver],0))))*INDEX(tblActuals[Price],1) -> 2200 | I5: =(INDEX(tblActuals[Price],2)-INDEX(tblActuals[Price],1)*(1+INDEX(tblAssumptions[Base],MATCH("Price change % (monthly)",tblAssumptions[Driver],0))))*INDEX(tblActuals[Volume],2) -> 744 | J5: =-(INDEX(tblActuals[COGS],2)-B5*INDEX(tblAssumptions[Base],MATCH("COGS % of Revenue",tblAssumptions[Driver],0))) -> 0 | K5: =-(INDEX(tblActuals[OpEx],2)-INDEX(tblActuals[OpEx],1)*(1+INDEX(tblAssumptions[Base],MATCH("OpEx monthly change %",tblAssumptions[Driver],0)))) -> -375
A6: {=INDEX(tblActuals[Month],ROW()-3)} -> 45839 | B6: =INDEX(tblActuals[Revenue],3) -> 130500 | C6: =INDEX(tblActuals[Volume],2)*(1+INDEX(tblAssumptions[Base],MATCH("Volume growth % (monthly)",tblAssumptions[Driver],0)))*INDEX(tblActuals[Price],2)*(1+INDEX(tblAssumptions[Base],MATCH("Price change % (monthly)",tblAssumptions[Driver],0))) -> 127120.61 | D6: =B6-C6 -> 3379.3862 | E6: =D6/C6 -> 0.026584093 | F6: =INDEX(tblActuals[Revenue],3)-INDEX(tblActuals[COGS],3)-INDEX(tblActuals[OpEx],3) -> 52500 | G6: =C6*(1-INDEX(tblAssumptions[Base],MATCH("COGS % of Revenue",tblAssumptions[Driver],0)))-INDEX(tblActuals[OpEx],2)*(1+INDEX(tblAssumptions[Base],MATCH("OpEx monthly change %",tblAssumptions[Driver],0))) -> 50644.868 | H6: =(INDEX(tblActuals[Volume],3)-INDEX(tblActuals[Volume],2)*(1+INDEX(tblAssumptions[Base],MATCH("Volume growth % (monthly)",tblAssumptions[Driver],0))))*INDEX(tblActuals[Price],2) -> 2157.12 | I6: =(INDEX(tblActuals[Price],3)-INDEX(tblActuals[Price],2)*(1+INDEX(tblAssumptions[Base],MATCH("Price change % (monthly)",tblAssumptions[Driver],0))))*INDEX(tblActuals[Volume],3) -> 1213.952 | J6: =-(INDEX(tblActuals[COGS],3)-B6*INDEX(tblAssumptions[Base],MATCH("COGS % of Revenue",tblAssumptions[Driver],0))) -> 200 | K6: =-(INDEX(tblActuals[OpEx],3)-INDEX(tblActuals[OpEx],2)*(1+INDEX(tblAssumptions[Base],MATCH("OpEx monthly change %",tblAssumptions[Driver],0)))) -> -372.5
A7: {=INDEX(tblActuals[Month],ROW()-3)} -> 45870 | B7: =INDEX(tblActuals[Revenue],4) -> 128000 | C7: =INDEX(tblActuals[Volume],3)*(1+INDEX(tblAssumptions[Base],MATCH("Volume growth % (monthly)",tblAssumptions[Driver],0)))*INDEX(tblActuals[Price],3)*(1+INDEX(tblAssumptions[Base],MATCH("Price change % (monthly)",tblAssumptions[Driver],0))) -> 132718.35 | D7: =B7-C7 -> -4718.3469 | E7: =D7/C7 -> -0.03555158 | F7: =INDEX(tblActuals[Revenue],4)-INDEX(tblActuals[COGS],4)-INDEX(tblActuals[OpEx],4) -> 51200 | G7: =C7*(1-INDEX(tblAssumptions[Base],MATCH("COGS % of Revenue",tblAssumptions[Driver],0)))-INDEX(tblActuals[OpEx],3)*(1+INDEX(tblAssumptions[Base],MATCH("OpEx monthly change %",tblAssumptions[Driver],0))) -> 53501.008 | H7: =(INDEX(tblActuals[Volume],4)-INDEX(tblActuals[Volume],3)*(1+INDEX(tblAssumptions[Base],MATCH("Volume growth % (monthly)",tblAssumptions[Driver],0))))*INDEX(tblActuals[Price],3) -> -3996.44 | I7: =(INDEX(tblActuals[Price],4)-INDEX(tblActuals[Price],3)*(1+INDEX(tblAssumptions[Base],MATCH("Price change % (monthly)",tblAssumptions[Driver],0))))*INDEX(tblActuals[Volume],4) -> -729.414 | J7: =-(INDEX(tblActuals[COGS],4)-B7*INDEX(tblAssumptions[Base],MATCH("COGS % of Revenue",tblAssumptions[Driver],0))) -> 200 | K7: =-(INDEX(tblActuals[OpEx],4)-INDEX(tblActuals[OpEx],3)*(1+INDEX(tblAssumptions[Base],MATCH("OpEx monthly change %",tblAssumptions[Driver],0)))) -> 330
A8: {=INDEX(tblActuals[Month],ROW()-3)} -> 45901 | B8: =INDEX(tblActuals[Revenue],5) -> 135000 | C8: =INDEX(tblActuals[Volume],4)*(1+INDEX(tblAssumptions[Base],MATCH("Volume growth % (monthly)",tblAssumptions[Driver],0)))*INDEX(tblActuals[Price],4)*(1+INDEX(tblAssumptions[Base],MATCH("Price change % (monthly)",tblAssumptions[Driver],0))) -> 130164.08 | D8: =B8-C8 -> 4835.924 | E8: =D8/C8 -> 0.037152524 | F8: =INDEX(tblActuals[Revenue],5)-INDEX(tblActuals[COGS],5)-INDEX(tblActuals[OpEx],5) -> 54500 | G8: =C8*(1-INDEX(tblAssumptions[Base],MATCH("COGS % of Revenue",tblAssumptions[Driver],0)))-INDEX(tblActuals[OpEx],4)*(1+INDEX(tblAssumptions[Base],MATCH("OpEx monthly change %",tblAssumptions[Driver],0))) -> 52169.446 | H8: =(INDEX(tblActuals[Volume],5)-INDEX(tblActuals[Volume],4)*(1+INDEX(tblAssumptions[Base],MATCH("Volume growth % (monthly)",tblAssumptions[Driver],0))))*INDEX(tblActuals[Price],4) -> 4174.7325 | I8: =(INDEX(tblActuals[Price],5)-INDEX(tblActuals[Price],4)*(1+INDEX(tblAssumptions[Base],MATCH("Price change % (monthly)",tblAssumptions[Driver],0))))*INDEX(tblActuals[Volume],5) -> 655.842 | J8: =-(INDEX(tblActuals[COGS],5)-B8*INDEX(tblAssumptions[Base],MATCH("COGS % of Revenue",tblAssumptions[Driver],0))) -> 0 | K8: =-(INDEX(tblActuals[OpEx],5)-INDEX(tblActuals[OpEx],4)*(1+INDEX(tblAssumptions[Base],MATCH("OpEx monthly change %",tblAssumptions[Driver],0)))) -> -571
A9: {=INDEX(tblActuals[Month],ROW()-3)} -> 45931 | B9: =INDEX(tblActuals[Revenue],6) -> 140000 | C9: =INDEX(tblActuals[Volume],5)*(1+INDEX(tblAssumptions[Base],MATCH("Volume growth % (monthly)",tblAssumptions[Driver],0)))*INDEX(tblActuals[Price],5)*(1+INDEX(tblAssumptions[Base],MATCH("Price change % (monthly)",tblAssumptions[Driver],0))) -> 137302.1 | D9: =B9-C9 -> 2697.8989 | E9: =D9/C9 -> 0.019649364 | F9: =INDEX(tblActuals[Revenue],6)-INDEX(tblActuals[COGS],6)-INDEX(tblActuals[OpEx],6) -> 57000 | G9: =C9*(1-INDEX(tblAssumptions[Base],MATCH("COGS % of Revenue",tblAssumptions[Driver],0)))-INDEX(tblActuals[OpEx],5)*(1+INDEX(tblAssumptions[Base],MATCH("OpEx monthly change %",tblAssumptions[Driver],0))) -> 55748.761 | H9: =(INDEX(tblActuals[Volume],6)-INDEX(tblActuals[Volume],5)*(1+INDEX(tblAssumptions[Base],MATCH("Volume growth % (monthly)",tblAssumptions[Driver],0))))*INDEX(tblActuals[Price],5) -> 2065.955 | I9: =(INDEX(tblActuals[Price],6)-INDEX(tblActuals[Price],5)*(1+INDEX(tblAssumptions[Base],MATCH("Price change % (monthly)",tblAssumptions[Driver],0))))*INDEX(tblActuals[Volume],6) -> 639.812 | J9: =-(INDEX(tblActuals[COGS],6)-B9*INDEX(tblAssumptions[Base],MATCH("COGS % of Revenue",tblAssumptions[Driver],0))) -> 0 | K9: =-(INDEX(tblActuals[OpEx],6)-INDEX(tblActuals[OpEx],5)*(1+INDEX(tblAssumptions[Base],MATCH("OpEx monthly change %",tblAssumptions[Driver],0)))) -> -367.5
A10: {=INDEX(tblActuals[Month],ROW()-3)} -> 45962 | B10: =INDEX(tblActuals[Revenue],7) -> 142500 | C10: =INDEX(tblActuals[Volume],6)*(1+INDEX(tblAssumptions[Base],MATCH("Volume growth % (monthly)",tblAssumptions[Driver],0)))*INDEX(tblActuals[Price],6)*(1+INDEX(tblAssumptions[Base],MATCH("Price change % (monthly)",tblAssumptions[Driver],0))) -> 142396.4 | D10: =B10-C10 -> 103.59564 | E10: =D10/C10 -> 0.00072751584 | F10: =INDEX(tblActuals[Revenue],7)-INDEX(tblActuals[COGS],7)-INDEX(tblActuals[OpEx],7) -> 58250 | G10: =C10*(1-INDEX(tblAssumptions[Base],MATCH("COGS % of Revenue",tblAssumptions[Driver],0)))-INDEX(tblActuals[OpEx],6)*(1+INDEX(tblAssumptions[Base],MATCH("OpEx monthly change %",tblAssumptions[Driver],0))) -> 58302.843 | H10: =(INDEX(tblActuals[Volume],7)-INDEX(tblActuals[Volume],6)*(1+INDEX(tblAssumptions[Base],MATCH("Volume growth % (monthly)",tblAssumptions[Driver],0))))*INDEX(tblActuals[Price],6) -> -41.18 | I10: =(INDEX(tblActuals[Price],7)-INDEX(tblActuals[Price],6)*(1+INDEX(tblAssumptions[Base],MATCH("Price change % (monthly)",tblAssumptions[Driver],0))))*INDEX(tblActuals[Volume],7) -> 129.858 | J10: =-(INDEX(tblActuals[COGS],7)-B10*INDEX(tblAssumptions[Base],MATCH("COGS % of Revenue",tblAssumptions[Driver],0))) -> 0 | K10: =-(INDEX(tblActuals[OpEx],7)-INDEX(tblActuals[OpEx],6)*(1+INDEX(tblAssumptions[Base],MATCH("OpEx monthly change %",tblAssumptions[Driver],0)))) -> -115
A11: {=INDEX(tblActuals[Month],ROW()-3)} -> 45992 | B11: =INDEX(tblActuals[Revenue],8) -> 150000 | C11: =INDEX(tblActuals[Volume],7)*(1+INDEX(tblAssumptions[Base],MATCH("Volume growth % (monthly)",tblAssumptions[Driver],0)))*INDEX(tblActuals[Price],7)*(1+INDEX(tblAssumptions[Base],MATCH("Price change % (monthly)",tblAssumptions[Driver],0))) -> 144911.52 | D11: =B11-C11 -> 5088.4805 | E11: =D11/C11 -> 0.035114396 | F11: =INDEX(tblActuals[Revenue],8)-INDEX(tblActuals[COGS],8)-INDEX(tblActuals[OpEx],8) -> 62000 | G11: =C11*(1-INDEX(tblAssumptions[Base],MATCH("COGS % of Revenue",tblAssumptions[Driver],0)))-INDEX(tblActuals[OpEx],7)*(1+INDEX(tblAssumptions[Base],MATCH("OpEx monthly change %",tblAssumptions[Driver],0))) -> 59560.662 | H11: =(INDEX(tblActuals[Volume],8)-INDEX(tblActuals[Volume],7)*(1+INDEX(tblAssumptions[Base],MATCH("Volume growth % (monthly)",tblAssumptions[Driver],0))))*INDEX(tblActuals[Price],7) -> 4057.725 | I11: =(INDEX(tblActuals[Price],8)-INDEX(tblActuals[Price],7)*(1+INDEX(tblAssumptions[Base],MATCH("Price change % (monthly)",tblAssumptions[Driver],0))))*INDEX(tblActuals[Volume],8) -> 1034.64 | J11: =-(INDEX(tblActuals[COGS],8)-B11*INDEX(tblAssumptions[Base],MATCH("COGS % of Revenue",tblAssumptions[Driver],0))) -> 0 | K11: =-(INDEX(tblActuals[OpEx],8)-INDEX(tblActuals[OpEx],7)*(1+INDEX(tblAssumptions[Base],MATCH("OpEx monthly change %",tblAssumptions[Driver],0)))) -> -613.75

Sheet Sensitivity
A1: Sensitivity Analysis
A2: Low/high shocks show the incremental impact on selected-scenario 12-month gross profit.
A4: Driver | B4: Base Value | C4: Low Shock | D4: High Shock | E4: Impact Low | F4: Impact High
A5: Volume growth | B5: =rngVolumeGrowth -> 0.015 | C5: -0.01 | D5: 0.03 | E5: {=SUMPRODUCT((tblForecast[Scenario]=SelectedScenario)*tblForecast[Revenue]*(((1+$C5)/(1+$B5))^(MONTH(tblForecast[Month])-MONTH(StartMonth)+1)-1)*(1-rngCOGSpct))} -> -182035.61 | F5: {=SUMPRODUCT((tblForecast[Scenario]=SelectedScenario)*tblForecast[Revenue]*(((1+$D5)/(1+$B5))^(MONTH(tblForecast[Month])-MONTH(StartMonth)+1)-1)*(1-rngCOGSpct))} -> 126432.75
A6: Price change | B6: =rngPriceChange -> 0.002 | C6: -0.005 | D6: 0.005 | E6: {=SUMPRODUCT((tblForecast[Scenario]=SelectedScenario)*tblForecast[Revenue]*(((1+$C6)/(1+$B6))^(MONTH(tblForecast[Month])-MONTH(StartMonth)+1)-1)*(1-rngCOGSpct))} -> -55074.853 | F6: {=SUMPRODUCT((tblForecast[Scenario]=SelectedScenario)*tblForecast[Revenue]*(((1+$D6)/(1+$B6))^(MONTH(tblForecast[Month])-MONTH(StartMonth)+1)-1)*(1-rngCOGSpct))} -> 24498.23
A7: COGS % of Revenue | B7: =rngCOGSpct -> 0.4 | C7: 0.38 | D7: 0.45 | E7: =-SUMIFS(tblForecast[Revenue],tblForecast[Scenario],SelectedScenario)*($C7-$B7) -> 40248.004 | F7: =-SUMIFS(tblForecast[Revenue],tblForecast[Scenario],SelectedScenario)*($D7-$B7) -> -100620.01
A8: OpEx monthly change | B8: =rngOpExChange -> 0.005 | C8: 0.002 | D8: 0.015 | E8: {=-SUMPRODUCT((tblForecast[Scenario]=SelectedScenario)*tblForecast[OpEx]*(((1+$C8)/(1+$B8))^(MONTH(tblForecast[Month])-MONTH(StartMonth)+1)-1))} -> 6722.5324 | F8: {=-SUMPRODUCT((tblForecast[Scenario]=SelectedScenario)*tblForecast[OpEx]*(((1+$D8)/(1+$B8))^(MONTH(tblForecast[Month])-MONTH(StartMonth)+1)-1))} -> -23508.504

Sheet Admin
A1: Model Administration
A2: Named controls, version metadata and chart support calculations.
A4: Control | B4: Value | D4: Driver | E4: Impact Low | F4: Impact High | N4: Month | O4: Selected Revenue | P4: Selected Gross Profit | Q4: Selected Margin | S4: Month | T4: Base | U4: Optimistic | V4: Stress | X4: Driver | Y4: Latest Contribution
A5: Forecast Start | B5: 46023 | D5: Volume growth | E5: =Sensitivity!E5 -> -182035.61 | F5: =Sensitivity!F5 -> 126432.75 | N5: =EDATE(StartMonth,0) -> 46023 | O5: =SUMIFS(tblForecast[Revenue],tblForecast[Scenario],SelectedScenario,tblForecast[Month],N5)*((1+rngVolumeGrowth*Slider_Volume)/(1+rngVolumeGrowth))^1*((1+rngPriceChange*Slider_Price)/(1+rngPriceChange))^1 -> 152566.7 | P5: =O5*(1-rngCOGSpct*Slider_COGS)-SUMIFS(tblForecast[OpEx],tblForecast[Scenario],SelectedScenario,tblForecast[Month],N5) -> 63400.023 | Q5: =P5/O5 -> 0.41555609 | S5: =EDATE(StartMonth,0) -> 46023 | T5: =SUMIFS(tblForecast[Revenue],tblForecast[Scenario],"Base",tblForecast[Month],S5) -> 152566.7 | U5: =SUMIFS(tblForecast[Revenue],tblForecast[Scenario],"Opt",tblForecast[Month],S5) -> 155284.92 | V5: =SUMIFS(tblForecast[Revenue],tblForecast[Scenario],"Stress",tblForecast[Month],S5) -> 147769.32 | X5: Volume | Y5: =Variance!H11 -> 4057.725
A6: Model Version | B6: 1 | D6: Price change | E6: =Sensitivity!E6 -> -55074.853 | F6: =Sensitivity!F6 -> 24498.23 | N6: =EDATE(StartMonth,1) -> 46054 | O6: =SUMIFS(tblForecast[Revenue],tblForecast[Scenario],SelectedScenario,tblForecast[Month],N6)*((1+rngVolumeGrowth*Slider_Volume)/(1+rngVolumeGrowth))^2*((1+rngPriceChange*Slider_Price)/(1+rngPriceChange))^2 -> 155164.92 | P6: =O6*(1-rngCOGSpct*Slider_COGS)-SUMIFS(tblForecast[OpEx],tblForecast[Scenario],SelectedScenario,tblForecast[Month],N6) -> 64818.249 | Q6: =P6/O6 -> 0.41773779 | S6: =EDATE(StartMonth,1) -> 46054 | T6: =SUMIFS(tblForecast[Revenue],tblForecast[Scenario],"Base",tblForecast[Month],S6) -> 155164.92 | U6: =SUMIFS(tblForecast[Revenue],tblForecast[Scenario],"Opt",tblForecast[Month],S6) -> 160743.19 | V6: =SUMIFS(tblForecast[Revenue],tblForecast[Scenario],"Stress",tblForecast[Month],S6) -> 145560.17 | X6: Price | Y6: =Variance!I11 -> 1034.64
A7: Volume Growth | B7: =INDEX(tblAssumptions[[Base]:[Stress]],MATCH("Volume growth % (monthly)",tblAssumptions[Driver],0),MATCH(SelectedScenario,{"Base","Opt","Stress"},0)) -> 0.015 | D7: COGS % of Revenue | E7: =Sensitivity!E7 -> 40248.004 | F7: =Sensitivity!F7 -> -100620.01 | N7: =EDATE(StartMonth,2) -> 46082 | O7: =SUMIFS(tblForecast[Revenue],tblForecast[Scenario],SelectedScenario,tblForecast[Month],N7)*((1+rngVolumeGrowth*Slider_Volume)/(1+rngVolumeGrowth))^3*((1+rngPriceChange*Slider_Price)/(1+rngPriceChange))^3 -> 157807.37 | P7: =O7*(1-rngCOGSpct*Slider_COGS)-SUMIFS(tblForecast[OpEx],tblForecast[Scenario],SelectedScenario,tblForecast[Month],N7) -> 66262.321 | Q7: =P7/O7 -> 0.41989369 | S7: =EDATE(StartMonth,2) -> 46082 | T7: =SUMIFS(tblForecast[Revenue],tblForecast[Scenario],"Base",tblForecast[Month],S7) -> 157807.37 | U7: =SUMIFS(tblForecast[Revenue],tblForecast[Scenario],"Opt",tblForecast[Month],S7) -> 166393.31 | V7: =SUMIFS(tblForecast[Revenue],tblForecast[Scenario],"Stress",tblForecast[Month],S7) -> 143384.04 | X7: COGS | Y7: =Variance!J11 -> 0
A8: Price Change | B8: =INDEX(tblAssumptions[[Base]:[Stress]],MATCH("Price change % (monthly)",tblAssumptions[Driver],0),MATCH(SelectedScenario,{"Base","Opt","Stress"},0)) -> 0.002 | D8: OpEx monthly change | E8: =Sensitivity!E8 -> 6722.5324 | F8: =Sensitivity!F8 -> -23508.504 | N8: =EDATE(StartMonth,3) -> 46113 | O8: =SUMIFS(tblForecast[Revenue],tblForecast[Scenario],SelectedScenario,tblForecast[Month],N8)*((1+rngVolumeGrowth*Slider_Volume)/(1+rngVolumeGrowth))^4*((1+rngPriceChange*Slider_Price)/(1+rngPriceChange))^4 -> 160494.83 | P8: =O8*(1-rngCOGSpct*Slider_COGS)-SUMIFS(tblForecast[OpEx],tblForecast[Scenario],SelectedScenario,tblForecast[Month],N8) -> 67732.686 | Q8: =P8/O8 -> 0.42202409 | S8: =EDATE(StartMonth,3) -> 46113 | T8: =SUMIFS(tblForecast[Revenue],tblForecast[Scenario],"Base",tblForecast[Month],S8) -> 160494.83 | U8: =SUMIFS(tblForecast[Revenue],tblForecast[Scenario],"Opt",tblForecast[Month],S8) -> 172242.03 | V8: =SUMIFS(tblForecast[Revenue],tblForecast[Scenario],"Stress",tblForecast[Month],S8) -> 141240.45 | X8: OpEx | Y8: =Variance!K11 -> -613.75
A9: COGS % | B9: =INDEX(tblAssumptions[[Base]:[Stress]],MATCH("COGS % of Revenue",tblAssumptions[Driver],0),MATCH(SelectedScenario,{"Base","Opt","Stress"},0)) -> 0.4 | N9: =EDATE(StartMonth,4) -> 46143 | O9: =SUMIFS(tblForecast[Revenue],tblForecast[Scenario],SelectedScenario,tblForecast[Month],N9)*((1+rngVolumeGrowth*Slider_Volume)/(1+rngVolumeGrowth))^5*((1+rngPriceChange*Slider_Price)/(1+rngPriceChange))^5 -> 163228.06 | P9: =O9*(1-rngCOGSpct*Slider_COGS)-SUMIFS(tblForecast[OpEx],tblForecast[Scenario],SelectedScenario,tblForecast[Month],N9) -> 69229.801 | Q9: =P9/O9 -> 0.42412929 | S9: =EDATE(StartMonth,4) -> 46143 | T9: =SUMIFS(tblForecast[Revenue],tblForecast[Scenario],"Base",tblForecast[Month],S9) -> 163228.06 | U9: =SUMIFS(tblForecast[Revenue],tblForecast[Scenario],"Opt",tblForecast[Month],S9) -> 178296.34 | V9: =SUMIFS(tblForecast[Revenue],tblForecast[Scenario],"Stress",tblForecast[Month],S9) -> 139128.91
A10: OpEx Change | B10: =INDEX(tblAssumptions[[Base]:[Stress]],MATCH("OpEx monthly change %",tblAssumptions[Driver],0),MATCH(SelectedScenario,{"Base","Opt","Stress"},0)) -> 0.005 | N10: =EDATE(StartMonth,5) -> 46174 | O10: =SUMIFS(tblForecast[Revenue],tblForecast[Scenario],SelectedScenario,tblForecast[Month],N10)*((1+rngVolumeGrowth*Slider_Volume)/(1+rngVolumeGrowth))^6*((1+rngPriceChange*Slider_Price)/(1+rngPriceChange))^6 -> 166007.83 | P10: =O10*(1-rngCOGSpct*Slider_COGS)-SUMIFS(tblForecast[OpEx],tblForecast[Scenario],SelectedScenario,tblForecast[Month],N10) -> 70754.13 | Q10: =P10/O10 -> 0.42620959 | S10: =EDATE(StartMonth,5) -> 46174 | T10: =SUMIFS(tblForecast[Revenue],tblForecast[Scenario],"Base",tblForecast[Month],S10) -> 166007.83 | U10: =SUMIFS(tblForecast[Revenue],tblForecast[Scenario],"Opt",tblForecast[Month],S10) -> 184563.46 | V10: =SUMIFS(tblForecast[Revenue],tblForecast[Scenario],"Stress",tblForecast[Month],S10) -> 137048.93
A11: Discount Rate | B11: 0.1 | N11: =EDATE(StartMonth,6) -> 46204 | O11: =SUMIFS(tblForecast[Revenue],tblForecast[Scenario],SelectedScenario,tblForecast[Month],N11)*((1+rngVolumeGrowth*Slider_Volume)/(1+rngVolumeGrowth))^7*((1+rngPriceChange*Slider_Price)/(1+rngPriceChange))^7 -> 168834.95 | P11: =O11*(1-rngCOGSpct*Slider_COGS)-SUMIFS(tblForecast[OpEx],tblForecast[Scenario],SelectedScenario,tblForecast[Month],N11) -> 72306.146 | Q11: =P11/O11 -> 0.42826528 | S11: =EDATE(StartMonth,6) -> 46204 | T11: =SUMIFS(tblForecast[Revenue],tblForecast[Scenario],"Base",tblForecast[Month],S11) -> 168834.95 | U11: =SUMIFS(tblForecast[Revenue],tblForecast[Scenario],"Opt",tblForecast[Month],S11) -> 191050.86 | V11: =SUMIFS(tblForecast[Revenue],tblForecast[Scenario],"Stress",tblForecast[Month],S11) -> 135000.05
A12: Last Updated | B12: 46244 | N12: =EDATE(StartMonth,7) -> 46235 | O12: =SUMIFS(tblForecast[Revenue],tblForecast[Scenario],SelectedScenario,tblForecast[Month],N12)*((1+rngVolumeGrowth*Slider_Volume)/(1+rngVolumeGrowth))^8*((1+rngPriceChange*Slider_Price)/(1+rngPriceChange))^8 -> 171710.21 | P12: =O12*(1-rngCOGSpct*Slider_COGS)-SUMIFS(tblForecast[OpEx],tblForecast[Scenario],SelectedScenario,tblForecast[Month],N12) -> 73886.327 | Q12: =P12/O12 -> 0.43029665 | S12: =EDATE(StartMonth,7) -> 46235 | T12: =SUMIFS(tblForecast[Revenue],tblForecast[Scenario],"Base",tblForecast[Month],S12) -> 171710.21 | U12: =SUMIFS(tblForecast[Revenue],tblForecast[Scenario],"Opt",tblForecast[Month],S12) -> 197766.3 | V12: =SUMIFS(tblForecast[Revenue],tblForecast[Scenario],"Stress",tblForecast[Month],S12) -> 132981.8
N13: =EDATE(StartMonth,8) -> 46266 | O13: =SUMIFS(tblForecast[Revenue],tblForecast[Scenario],SelectedScenario,tblForecast[Month],N13)*((1+rngVolumeGrowth*Slider_Volume)/(1+rngVolumeGrowth))^9*((1+rngPriceChange*Slider_Price)/(1+rngPriceChange))^9 -> 174634.43 | P13: =O13*(1-rngCOGSpct*Slider_COGS)-SUMIFS(tblForecast[OpEx],tblForecast[Scenario],SelectedScenario,tblForecast[Month],N13) -> 75495.163 | Q13: =P13/O13 -> 0.432304 | S13: =EDATE(StartMonth,8) -> 46266 | T13: =SUMIFS(tblForecast[Revenue],tblForecast[Scenario],"Base",tblForecast[Month],S13) -> 174634.43 | U13: =SUMIFS(tblForecast[Revenue],tblForecast[Scenario],"Opt",tblForecast[Month],S13) -> 204717.79 | V13: =SUMIFS(tblForecast[Revenue],tblForecast[Scenario],"Stress",tblForecast[Month],S13) -> 130993.72
